BEGIN:VCALENDAR
VERSION:2.0
PRODID:-//pretix//pretix.eu//
BEGIN:VTIMEZONE
TZID:Europe/Berlin
BEGIN:STANDARD
DTSTART:20001029T040000
RRULE:FREQ=YEARLY;BYDAY=-1SU;BYMONTH=10
TZNAME:CET
TZOFFSETFROM:+0200
TZOFFSETTO:+0100
END:STANDARD
BEGIN:DAYLIGHT
DTSTART:20000326T030000
RRULE:FREQ=YEARLY;BYDAY=-1SU;BYMONTH=3
TZNAME:CEST
TZOFFSETFROM:+0100
TZOFFSETTO:+0200
END:DAYLIGHT
END:VTIMEZONE
BEGIN:VEVENT
UID:pretix-jodo-bosnien23-0@bosnien.muslimischejugend.de
DTSTART;TZID=Europe/Berlin:20230929T000000
DTEND;TZID=Europe/Berlin:20231004T000000
DESCRIPTION:Tickets: https://bosnien.muslimischejugend.de/\nVeranstalter: M
 JD
DTSTAMP:20260420T101926Z
LOCATION:Bosnien
SUMMARY:Bosnienreise
END:VEVENT
END:VCALENDAR
